BEGIN:VCALENDAR
VERSION:2.0
PRODID:-//Squarespace Inc/Squarespace 6//v6//EN
BEGIN:VEVENT
UID:5676ac95df40f37eb35e7477@squarespace.com
DTSTAMP:20180416T110208Z
DTSTART:20151013T071500Z
DTEND:20151013T083000Z
SUMMARY:The Art of Brewing - Laneway Learning
GEO:-37.81378;144.962442
LOCATION:The Little Mule Cafe\, 19 Somerset Place\, Melbourne\, VIC\, 3000\
 , Australia
END:VEVENT
END:VCALENDAR
