BEGIN:VCALENDAR
VERSION:2.0
PRODID:-//Squarespace Inc/Squarespace 6//v6//EN
BEGIN:VEVENT
UID:5676af2ccbced60a23720543@squarespace.com
DTSTAMP:20180416T110241Z
DTSTART:20151209T090000Z
DTEND:20151209T103000Z
SUMMARY:Tea Tales
GEO:-37.797713;144.96971
LOCATION:Porcelain Tea Parlour\, 149 Elgin Street\, Carlton\, VIC\, 3053\, 
 Australia
END:VEVENT
END:VCALENDAR
