BEGIN:VCALENDAR
VERSION:2.0
PRODID:-//Squarespace Inc/Squarespace 6//v6//EN
BEGIN:VEVENT
UID:5803838bcd0f6803b4fbccef@squarespace.com
DTSTAMP:20180416T110522Z
DTSTART:20160913T081500Z
DTEND:20160913T093000Z
SUMMARY:The Art of Brewing - Laneway Learning 
GEO:-37.813789;144.962395
LOCATION:The Little Mule\, 19 Somerset Place\, Melbourne\, VIC\, 3000\, Aus
 tralia
END:VEVENT
END:VCALENDAR
