BEGIN:VCALENDAR
VERSION:2.0
PRODID:-//Squarespace Inc/Squarespace 6//v6//EN
BEGIN:VEVENT
UID:580384dccd0f6803b4fbd377@squarespace.com
DTSTAMP:20180416T110553Z
DTSTART:20161122T090000Z
DTEND:20161122T101500Z
SUMMARY:Tea and Cheese Pairing - Laneway Learning
GEO:-37.813789;144.962395
LOCATION:The Little Mule\, 19 Somerset Place\, Melbourne\, VIC\, 3000\, Aus
 tralia
END:VEVENT
END:VCALENDAR
