BEGIN:VCALENDAR
VERSION:2.0
PRODID:-//Squarespace Inc/Squarespace 6//v6//EN
BEGIN:VEVENT
UID:56c7e4ee01dbae727e46206f@squarespace.com
DTSTAMP:20180416T110425Z
DTSTART:20160315T090000Z
DTEND:20160315T101500Z
SUMMARY:The Art of Brewing - Laneway Learning
GEO:-37.81378;144.962442
LOCATION:The Little Mule\, 19 Somerset Pl\, Melbourne\, Australia
END:VEVENT
END:VCALENDAR
