BEGIN:VCALENDAR
VERSION:2.0
PRODID:-//Squarespace Inc/Squarespace 6//v6//EN
BEGIN:VEVENT
UID:5719afd02fe131cc95a34848@squarespace.com
DTSTAMP:20180416T110347Z
DTSTART:20160529T014500Z
DTEND:20160529T030000Z
SUMMARY:Tea and Food Pairing Workshop - Melbourne Tea Festival
GEO:-37.82542;144.954109
LOCATION:Melbourne Conference & Exhibition Centre (MCEC)\, 2 Clarendon Stre
 et\, South Wharf\, VIC\, 3006\, Australia
END:VEVENT
END:VCALENDAR
