BEGIN:VCALENDAR
VERSION:2.0
PRODID:-//Squarespace Inc/Squarespace 6//v6//EN
BEGIN:VEVENT
UID:5746b3f32b8dde64fdcd8072@squarespace.com
DTSTAMP:20180416T110438Z
DTSTART:20160622T100000Z
DTEND:20160622T111500Z
SUMMARY:The Art of Brewing - Laneway Learning
GEO:-37.867664;144.988126
LOCATION:Finn Cafe\, 120-124 Carlisle Street\, Saint Kilda\, VIC\, 3182\, A
 ustralia
END:VEVENT
END:VCALENDAR
