BEGIN:VCALENDAR
VERSION:2.0
PRODID:-//Squarespace Inc/Squarespace 6//v6//EN
BEGIN:VEVENT
UID:587b69b1e58c62d26c1c27dd@squarespace.com
DTSTAMP:20180416T110646Z
DTSTART:20170206T090000Z
DTEND:20170206T101500Z
SUMMARY:Tea and Cheese Pairing - Laneway Learning
GEO:-37.808895;144.967561
LOCATION:Bennets Lane\, 25 Bennetts Lane\, Melbourne\, VIC\, 3000\, Austral
 ia
END:VEVENT
END:VCALENDAR
