BEGIN:VCALENDAR
VERSION:2.0
PRODID:-//Squarespace Inc/Squarespace 6//v6//EN
BEGIN:VEVENT
UID:58b50564f7e0ab855e882301@squarespace.com
DTSTAMP:20180416T110745Z
DTSTART:20170314T090000Z
DTEND:20170314T101500Z
SUMMARY:Tea and Cheese Pairing - Laneway Learning
GEO:-37.808815;144.967794
LOCATION:Laneway Learning Central\, 22-24 Bennetts Lane\, Melbourne\, VIC\, 
 3000\, Australia
END:VEVENT
END:VCALENDAR
