BEGIN:VCALENDAR
VERSION:2.0
PRODID:-//Squarespace Inc/Squarespace 6//v6//EN
BEGIN:VEVENT
UID:5909c83df7e0ab2f59c498b1@squarespace.com
DTSTAMP:20180416T110915Z
DTSTART:20170611T040000Z
DTEND:20170611T060000Z
SUMMARY:Tea and Cheese Pairing Workshop at Rippon Lea Estate
GEO:-37.879595;144.998873
LOCATION:Rippon Lea House and Gardens\, 192 Hotham Street\, Elsternwick\, V
 IC\, 3185\, Australia
END:VEVENT
END:VCALENDAR
