BEGIN:VCALENDAR
VERSION:2.0
PRODID:-//Squarespace Inc/Squarespace 6//v6//EN
BEGIN:VEVENT
UID:5909c79f3a0411b8fea4f91f@squarespace.com
DTSTAMP:20180416T110949Z
DTSTART:20170607T083000Z
DTEND:20170607T100000Z
SUMMARY:Tea and Cheese with Spring Street Cheese Cellar
GEO:-37.81101;144.972593
LOCATION:Spring Street Cheese Cellar\, 157 Spring Street\, Melbourne\, VIC\
 , 3000\, Australia
END:VEVENT
END:VCALENDAR
