BEGIN:VCALENDAR
VERSION:2.0
PRODID:-//Squarespace Inc/Squarespace 6//v6//EN
BEGIN:VEVENT
UID:5e6366ad0a1d4b4e74e7d716@squarespace.com
DTSTAMP:20201124T052313Z
DTSTART:20200310T084500Z
DTEND:20200310T100000Z
SUMMARY:Tea and Cheese Pairing - Laneway Learning 
GEO:-37.815207;144.963937
LOCATION:Laneway Learning Central\, L3\, Room 17\, Nicholas Building\, 37 S
 wanston St\, Melbourne\, VIC\, 3000\, Australia
END:VEVENT
END:VCALENDAR
