BEGIN:VCALENDAR
VERSION:2.0
PRODID:-//Squarespace Inc/Squarespace 6//v6//EN
BEGIN:VEVENT
UID:5cff7ebb76e32d000149d6cf@squarespace.com
DTSTAMP:20201124T052737Z
DTSTART:20190617T100000Z
DTEND:20190617T111500Z
SUMMARY:Tea and Cheese Pairing - Laneway Learning
GEO:-37.815207;144.963937
LOCATION:Laneway Learning Central\, L3\, Room 17\, Nicholas Building\, 37 S
 wanston St\, Melbourne\, VIC\, 3000\, Australia
END:VEVENT
END:VCALENDAR
