BEGIN:VCALENDAR
VERSION:2.0
PRODID:-//Squarespace Inc/Squarespace 6//v6//EN
BEGIN:VEVENT
UID:5ad453641ae6cfce64ce1a75@squarespace.com
DTSTAMP:20190611T101315Z
DTSTART:20180508T100000Z
DTEND:20180508T111500Z
SUMMARY:Tea and Cheese Pairing - Laneway Learning
GEO:-37.815207;144.963937
LOCATION:Laneway Learning Central\, L3\, Room 17\, Nicholas Building\, 37 S
 wanston St\, Melbourne\, VIC\, 3000\, Australia
END:VEVENT
END:VCALENDAR
