BEGIN:VCALENDAR
VERSION:2.0
PRODID:-//Squarespace Inc/Squarespace 6//v6//EN
BEGIN:VEVENT
UID:5e6366138edf432203de0fb1@squarespace.com
DTSTAMP:20201124T052331Z
DTSTART:20200310T071500Z
DTEND:20200310T083000Z
SUMMARY:The Art of Brewing - Laneway Learning
GEO:-37.816764;144.966794
LOCATION:Laneway Learning Central\, L3\, Room 17\, Nicholas Building\, 37 S
 wanston St\, Melbourne\, Australia
END:VEVENT
END:VCALENDAR
