BEGIN:VCALENDAR
VERSION:2.0
PRODID:-//Squarespace Inc/Squarespace 6//v6//EN
BEGIN:VEVENT
UID:5ad45248575d1f10b30160f6@squarespace.com
DTSTAMP:20180416T073950Z
DTSTART:20180508T081500Z
DTEND:20180508T093000Z
SUMMARY:The Art of Brewing - Laneway Learning
GEO:-37.816764;144.966794
LOCATION:Laneway Learning Central\, L3\, Room 17\, Nicholas Building\, 37 S
 wanston St\, Melbourne\, Australia
END:VEVENT
END:VCALENDAR
