BEGIN:VCALENDAR
VERSION:2.0
PRODID:-//Squarespace Inc/Squarespace 6//v6//EN
BEGIN:VEVENT
UID:5af99048575d1f076724c3c7@squarespace.com
DTSTAMP:20201124T052815Z
DTSTART:20180614T083000Z
DTEND:20180614T100000Z
SUMMARY:STARWARD Whisky Flight Night - Tea &amp\; Whisky
GEO:-37.829257;144.939218
LOCATION:STARWARD Distillery\, 50 Bertie Street\, Port Melbourne\, VIC\, 32
 07\, Australia
END:VEVENT
END:VCALENDAR
