BEGIN:VCALENDAR
VERSION:2.0
PRODID:-//Squarespace Inc/Squarespace 6//v6//EN
BEGIN:VEVENT
UID:5af82524aa4a99c18ca75823@squarespace.com
DTSTAMP:20201124T052826Z
DTSTART:20180607T083000Z
DTEND:20180607T100000Z
SUMMARY:STARWARD Whisky Flight Night - Tea &amp\; Whisky
GEO:-37.829516;144.93885
LOCATION:STARWARD Distillery\, 50 Bertie Street\, Port Melbourne\, VIC\, 32
 07\, Australia
END:VEVENT
END:VCALENDAR
