BEGIN:VCALENDAR
VERSION:2.0
PRODID:-//Squarespace Inc/Squarespace 6//v6//EN
BEGIN:VEVENT
UID:5d1dd0773216d20001aa46da@squarespace.com
DTSTAMP:20201124T052541Z
DTSTART:20190721T061500Z
DTEND:20190721T071500Z
SUMMARY:Tea &amp\; Cheese Pairing - Melbourne Tea Festival
GEO:-37.801658;144.954374
LOCATION:Meat Market\, 3 Blackwood Street\, North Melbourne\, VIC\, 3051\, 
 Australia
END:VEVENT
END:VCALENDAR
