BEGIN:VCALENDAR
VERSION:2.0
PRODID:-//Squarespace Inc/Squarespace 6//v6//EN
BEGIN:VEVENT
UID:5cff9b4053e1d40001ffe90c@squarespace.com
DTSTAMP:20201124T052508Z
DTSTART:20190804T000000Z
DTEND:20190804T010000Z
SUMMARY:Tea Brewing Boot Camp - BrewIN Melbourne
GEO:-37.80591;144.988808
LOCATION:Schoolhouse Studios\, 81 Rupert St\, Collingwood\, VIC\, Australia
END:VEVENT
END:VCALENDAR
