BEGIN:VCALENDAR
VERSION:2.0
PRODID:-//Squarespace Inc/Squarespace 6//v6//EN
BEGIN:VEVENT
UID:587b6f71e4fcb54334054c3b@squarespace.com
DTSTAMP:20180416T110815Z
DTSTART:20170429T083000Z
DTEND:20170429T123000Z
SUMMARY:imbue. - Cheese Edition
GEO:-37.801111;144.978889
LOCATION:Fitzroy\, VIC\, 3065\, Australia
END:VEVENT
END:VCALENDAR
