BEGIN:VCALENDAR
VERSION:2.0
PRODID:-//Squarespace Inc/Squarespace 6//v6//EN
BEGIN:VEVENT
UID:57ee657620099ef0aecd5798@squarespace.com
DTSTAMP:20180416T110605Z
DTSTART:20161209T233000Z
DTEND:20161210T020000Z
SUMMARY:imbue. - Brunch Edition
GEO:-37.78541;144.980748
LOCATION:Seacombe Studio\, 75 Reid Street\, Fitzroy North\, VIC\, 3068\, Au
 stralia
END:VEVENT
END:VCALENDAR
