BEGIN:VCALENDAR
VERSION:2.0
PRODID:-//Squarespace Inc/Squarespace 6//v6//EN
BEGIN:VEVENT
UID:5676b598dc5cb43d5a9a0237@squarespace.com
DTSTAMP:20180416T110329Z
DTSTART:20160430T093000Z
DTEND:20160501T040000Z
SUMMARY:imbue. - Dessert Edition
GEO:-37.777912;144.988056
LOCATION:The Assembly Rooms\, 401 Saint Georges Road\, Fitzroy North\, VIC\
 , 3068\, Australia
END:VEVENT
END:VCALENDAR
