BEGIN:VCALENDAR
VERSION:2.0
PRODID:-//Squarespace Inc/Squarespace 6//v6//EN
BEGIN:VEVENT
UID:56c9cb0740261dffb295574b@squarespace.com
DTSTAMP:20180416T110252Z
DTSTART:20160305T030000Z
DTEND:20160306T080000Z
SUMMARY:imbue. - Pop Up at Porcelain
GEO:-37.797713;144.96971
LOCATION:Porcelain Tea Parlour\, 149 Elgin Street\, Carlton\, VIC\, 3053\, 
 Australia
END:VEVENT
END:VCALENDAR
