BEGIN:VCALENDAR
VERSION:2.0
PRODID:-//Squarespace Inc/Squarespace 6//v6//EN
BEGIN:VEVENT
UID:573c3004c2ea5193959d3520@squarespace.com
DTSTAMP:20180416T110450Z
DTSTART:20160703T020000Z
DTEND:20160703T090000Z
SUMMARY:imbue. - Roast Edition
GEO:-37.797713;144.96971
LOCATION:Porcelain Tea Parlour\, 149 Elgin Street\, Carlton\, VIC\, 3053\, 
 Australia
END:VEVENT
END:VCALENDAR
