BEGIN:VCALENDAR
VERSION:2.0
PRODID:-//Squarespace Inc/Squarespace 6//v6//EN
BEGIN:VEVENT
UID:56173203e4b0461a993644c3@squarespace.com
DTSTAMP:20180416T110225Z
DTSTART:20151107T070000Z
DTEND:20151107T110000Z
SUMMARY:imbue.
GEO:-37.777912;144.988056
LOCATION:The Assembly Rooms\, 401 Saint Georges Road\, Fitzroy North\, VIC\
 , 3068\, Australia
END:VEVENT
END:VCALENDAR
