BEGIN:VCALENDAR
VERSION:2.0
PRODID:-//Squarespace Inc/Squarespace 6//v6//EN
BEGIN:VEVENT
UID:587b6ba32994ca239492a284@squarespace.com
DTSTAMP:20180416T110702Z
DTSTART:20170219T020000Z
DTEND:20170219T050000Z
SUMMARY:imbue. - Summer Edition
GEO:-37.805278;145.035833
LOCATION:A Secret Garden\, Kew\, Australia
END:VEVENT
END:VCALENDAR
