BEGIN:VCALENDAR
VERSION:2.0
PRODID:-//Squarespace Inc/Squarespace 6//v6//EN
BEGIN:VEVENT
UID:58be5eb1b8a79b7c599a5bd8@squarespace.com
DTSTAMP:20180416T110804Z
DTSTART:20170401T030000Z
DTEND:20170401T044500Z
SUMMARY:Tea and Food Pairing Workshop - Australian International Tea Expo
GEO:-37.78254;144.912383
LOCATION:Classroom - Australian Tea Expo Hall\, Melbourne Showgrounds\, Eps
 om Road\, Ascot Vale\, Victora\, Australia
END:VEVENT
END:VCALENDAR
