BEGIN:VCALENDAR
VERSION:2.0
PRODID:-//Squarespace Inc/Squarespace 6//v6//EN
BEGIN:VEVENT
UID:58be68df86e6c0554800edd6@squarespace.com
DTSTAMP:20180416T110825Z
DTSTART:20170513T050000Z
DTEND:20170513T070000Z
SUMMARY:Tea and Cheese with Richmond Hill Cafe & Larder
GEO:-37.817887;144.991569
LOCATION:Richmond Hill Cafe and Larder\, 48-50 Bridge Road\, Richmond\, VIC
 \, 3121\, Australia
END:VEVENT
END:VCALENDAR
